BEGIN:VCALENDAR
VERSION:2.0
PRODID:-//Quinte Financial Technologies - ECPv6.15.20//NONSGML v1.0//EN
CALSCALE:GREGORIAN
METHOD:PUBLISH
X-WR-CALNAME:Quinte Financial Technologies
X-ORIGINAL-URL:https://www.quinteft.com
X-WR-CALDESC:Events for Quinte Financial Technologies
REFRESH-INTERVAL;VALUE=DURATION:PT1H
X-Robots-Tag:noindex
X-PUBLISHED-TTL:PT1H
BEGIN:VTIMEZONE
TZID:UTC
BEGIN:STANDARD
TZOFFSETFROM:+0000
TZOFFSETTO:+0000
TZNAME:UTC
DTSTART:20230101T000000
END:STANDARD
END:VTIMEZONE
BEGIN:VEVENT
DTSTART;TZID=UTC:20260330T000000
DTEND;TZID=UTC:20260401T000000
DTSTAMP:20260425T181839
CREATED:20260209T055017Z
LAST-MODIFIED:20260416T044515Z
UID:13912-1774828800-1775001600@www.quinteft.com
SUMMARY:Fintech Meetup 2026
DESCRIPTION:
URL:https://www.quinteft.com/qft-event/fintech-meetup-2026/
LOCATION:Fintech Meetup 2026\, Mandalay Bay Resort\, Las Vegas\, NV\, 89119\, United States
ATTACH;FMTTYPE=image/webp:https://www.quinteft.com/wp-content/uploads/Fintech-Meetup.webp
END:VEVENT
BEGIN:VEVENT
DTSTART;TZID=UTC:20260315T000000
DTEND;TZID=UTC:20260317T000000
DTSTAMP:20260425T181839
CREATED:20260216T045843Z
LAST-MODIFIED:20260416T044426Z
UID:15370-1773532800-1773705600@www.quinteft.com
SUMMARY:AFT Spring Summit 2026
DESCRIPTION:
URL:https://www.quinteft.com/qft-event/aft-spring-summit-2026/
LOCATION:AFT Spring Summit 2026\, Conrad Nashville 1620 West End Ave Nashville\, TN\, 37203\, United States
ATTACH;FMTTYPE=image/webp:https://www.quinteft.com/wp-content/uploads/AFT.webp
END:VEVENT
BEGIN:VEVENT
DTSTART;TZID=UTC:20260301T000000
DTEND;TZID=UTC:20260305T000000
DTSTAMP:20260425T181839
CREATED:20260208T231232Z
LAST-MODIFIED:20260318T065736Z
UID:13600-1772323200-1772668800@www.quinteft.com
SUMMARY:Governmental Affairs Conference 2026
DESCRIPTION:
URL:https://www.quinteft.com/qft-event/governmental-affairs-conference-2026/
LOCATION:Governmental Affairs Conference 2026 Booth #1527\, Walter E. Washington Convention Center\, 801 Allen Y.Lew Place NW\, Washington\, DC\, WA
ATTACH;FMTTYPE=image/webp:https://www.quinteft.com/wp-content/uploads/GAC-Event.webp
END:VEVENT
BEGIN:VEVENT
DTSTART;TZID=UTC:20251027T000000
DTEND;TZID=UTC:20251030T000000
DTSTAMP:20260425T181839
CREATED:20260208T232957Z
LAST-MODIFIED:20260209T015002Z
UID:13610-1761523200-1761782400@www.quinteft.com
SUMMARY:REACH 2025
DESCRIPTION:
URL:https://www.quinteft.com/qft-event/reach-2025/
LOCATION:Reach-2025\, JW Marriott Desert Springs Resort & Spa\, Palm Desert\, CA
ATTACH;FMTTYPE=image/webp:https://www.quinteft.com/wp-content/uploads/2026/02/Reach-2025.webp
END:VEVENT
BEGIN:VEVENT
DTSTART;TZID=UTC:20250910T000000
DTEND;TZID=UTC:20250911T000000
DTSTAMP:20260425T181839
CREATED:20260209T022308Z
LAST-MODIFIED:20260209T023021Z
UID:13674-1757462400-1757548800@www.quinteft.com
SUMMARY:FinovateFall 2025
DESCRIPTION:
URL:https://www.quinteft.com/qft-event/finovatefall-2025/
LOCATION:FinovateFall 2025\, The Marriott Marquis Times Square
ATTACH;FMTTYPE=image/webp:https://www.quinteft.com/wp-content/uploads/2026/02/Finovate-Fall.webp
END:VEVENT
BEGIN:VEVENT
DTSTART;TZID=UTC:20250908T000000
DTEND;TZID=UTC:20250911T000000
DTSTAMP:20260425T181839
CREATED:20260209T023343Z
LAST-MODIFIED:20260209T023650Z
UID:13680-1757289600-1757548800@www.quinteft.com
SUMMARY:Jack Henry Connect 2025
DESCRIPTION:
URL:https://www.quinteft.com/qft-event/jack-henry-connect-2025/
LOCATION:Jack Henry Connect 2025\, San Diego Convention Center\, San Diego\, CA
ATTACH;FMTTYPE=image/webp:https://www.quinteft.com/wp-content/uploads/2026/02/Jack-Henry-Connect.webp
END:VEVENT
BEGIN:VEVENT
DTSTART;TZID=UTC:20250825T000000
DTEND;TZID=UTC:20250829T000000
DTSTAMP:20260425T181839
CREATED:20260209T033434Z
LAST-MODIFIED:20260209T033434Z
UID:13701-1756080000-1756425600@www.quinteft.com
SUMMARY:2025 IAFCI International Training Conference & Exhibitor Show
DESCRIPTION:
URL:https://www.quinteft.com/qft-event/2025-iafci-international-training-conference-exhibitor-show/
LOCATION:2025 IAFCI International Training Conference & Exhibitor Show\, Omni Oklahoma City Hotel
ATTACH;FMTTYPE=image/webp:https://www.quinteft.com/wp-content/uploads/2026/02/IAFCI-International-Training-Conference.webp
END:VEVENT
BEGIN:VEVENT
DTSTART;TZID=UTC:20250812T000000
DTEND;TZID=UTC:20250812T000000
DTSTAMP:20260425T181839
CREATED:20260209T033751Z
LAST-MODIFIED:20260209T040606Z
UID:13704-1754956800-1754956800@www.quinteft.com
SUMMARY:Atlanta Fed Peach Pay Forum 2025
DESCRIPTION:
URL:https://www.quinteft.com/qft-event/atlanta-fed-peach-pay-forum-2025/
LOCATION:Atlanta Fed Peach Pay Forum 2025\, 1000 Peachtree Street NE\, Atlanta\, GA\, 30309
ATTACH;FMTTYPE=image/webp:https://www.quinteft.com/wp-content/uploads/2026/02/peach-pay.webp
END:VEVENT
BEGIN:VEVENT
DTSTART;TZID=UTC:20250612T000000
DTEND;TZID=UTC:20250615T000000
DTSTAMP:20260425T181839
CREATED:20260209T034042Z
LAST-MODIFIED:20260219T083803Z
UID:13707-1749686400-1749945600@www.quinteft.com
SUMMARY:EXCEL 2025
DESCRIPTION:
URL:https://www.quinteft.com/qft-event/excel-2025/
LOCATION:Excel 25\, The Sagamore Resort\, 110 Sagamore Rd\, Bolton Landing\, NY\, 12814
ATTACH;FMTTYPE=image/webp:https://www.quinteft.com/wp-content/uploads/2026/02/Excel-25.webp
END:VEVENT
BEGIN:VEVENT
DTSTART;TZID=UTC:20250610T000000
DTEND;TZID=UTC:20250613T000000
DTSTAMP:20260425T181839
CREATED:20260209T034323Z
LAST-MODIFIED:20260209T040458Z
UID:13711-1749513600-1749772800@www.quinteft.com
SUMMARY:ABA Risk and Compliance Conference
DESCRIPTION:
URL:https://www.quinteft.com/qft-event/aba-risk-and-compliance-conference/
LOCATION:ABA Risk and Compliance Conference\, Indiana Convention Center\, Indianapolis
ATTACH;FMTTYPE=image/webp:https://www.quinteft.com/wp-content/uploads/2026/02/ABA.webp
END:VEVENT
BEGIN:VEVENT
DTSTART;TZID=UTC:20250604T000000
DTEND;TZID=UTC:20250604T000000
DTSTAMP:20260425T181839
CREATED:20260209T034500Z
LAST-MODIFIED:20260209T034628Z
UID:13716-1748995200-1748995200@www.quinteft.com
SUMMARY:Teachers Federal Credit Union Annual Golf Tournament
DESCRIPTION:
URL:https://www.quinteft.com/qft-event/teachers-federal-credit-union-annual-golf-tournament/
LOCATION:Teachers Federal Credit Union Annual Golf Tournament\, Westhampton Country Club 35 Potunk Lane\, NY
ATTACH;FMTTYPE=image/webp:https://www.quinteft.com/wp-content/uploads/2026/02/Teachers-FCU.webp
END:VEVENT
BEGIN:VEVENT
DTSTART;TZID=UTC:20250601T000000
DTEND;TZID=UTC:20250604T000000
DTSTAMP:20260425T181839
CREATED:20260209T034816Z
LAST-MODIFIED:20260209T034834Z
UID:13721-1748736000-1748995200@www.quinteft.com
SUMMARY:Digital Banking 2025
DESCRIPTION:
URL:https://www.quinteft.com/qft-event/digital-banking-2025/
LOCATION:Digital Banking 2025\, The Boca Raton\, FL
ATTACH;FMTTYPE=image/webp:https://www.quinteft.com/wp-content/uploads/2026/02/American-Banker.webp
END:VEVENT
BEGIN:VEVENT
DTSTART;TZID=UTC:20250519T000000
DTEND;TZID=UTC:20250521T000000
DTSTAMP:20260425T181839
CREATED:20260209T034955Z
LAST-MODIFIED:20260209T035049Z
UID:13726-1747612800-1747785600@www.quinteft.com
SUMMARY:Keystone Konnection 2025
DESCRIPTION:
URL:https://www.quinteft.com/qft-event/keystone-konnection-2025/
LOCATION:Keystone Konnection 2025\, Ramada by Wyndham State College Hotel & Conference Center
ATTACH;FMTTYPE=image/webp:https://www.quinteft.com/wp-content/uploads/2026/02/Keystone.webp
END:VEVENT
BEGIN:VEVENT
DTSTART;TZID=UTC:20250514T000000
DTEND;TZID=UTC:20250516T000000
DTSTAMP:20260425T181839
CREATED:20260209T035330Z
LAST-MODIFIED:20260209T035433Z
UID:13731-1747180800-1747353600@www.quinteft.com
SUMMARY:Corelation 14th Annual Hybrid Client Conference
DESCRIPTION:
URL:https://www.quinteft.com/qft-event/corelation-14th-annual-hybrid-client-conference/
LOCATION:Corelation 14th Annual Hybrid Client Conference\, 2305 Historic Decatur Road\, Suite 300\, San Diego\, CA\, 92106
ATTACH;FMTTYPE=image/webp:https://www.quinteft.com/wp-content/uploads/2026/02/Corelation-1.webp
END:VEVENT
BEGIN:VEVENT
DTSTART;TZID=UTC:20250507T000000
DTEND;TZID=UTC:20250509T000000
DTSTAMP:20260425T181839
CREATED:20260209T035608Z
LAST-MODIFIED:20260209T035719Z
UID:13736-1746576000-1746748800@www.quinteft.com
SUMMARY:FinovateSpring 2025
DESCRIPTION:
URL:https://www.quinteft.com/qft-event/finovatespring-2025/
LOCATION:FinovateSpring 2025\, Silver Pearl Ballroom\, Sheraton San Diego Hotel and Marina
ATTACH;FMTTYPE=image/webp:https://www.quinteft.com/wp-content/uploads/2026/02/Finovate.webp
END:VEVENT
BEGIN:VEVENT
DTSTART;TZID=UTC:20250316T000000
DTEND;TZID=UTC:20250318T000000
DTSTAMP:20260425T181839
CREATED:20260209T040113Z
LAST-MODIFIED:20260209T040213Z
UID:13746-1742083200-1742256000@www.quinteft.com
SUMMARY:ABA Conference 2025
DESCRIPTION:
URL:https://www.quinteft.com/qft-event/aba-conference-2025/
LOCATION:ABA Conference 2025\, JW Marriott Phoenix Desert Ridge\, Phoenix\, AZ
ATTACH;FMTTYPE=image/webp:https://www.quinteft.com/wp-content/uploads/2026/02/ABA-Conference-2025.webp
END:VEVENT
BEGIN:VEVENT
DTSTART;TZID=UTC:20250302T000000
DTEND;TZID=UTC:20250306T000000
DTSTAMP:20260425T181839
CREATED:20260209T035859Z
LAST-MODIFIED:20260209T035955Z
UID:13741-1740873600-1741219200@www.quinteft.com
SUMMARY:GAC 2025
DESCRIPTION:
URL:https://www.quinteft.com/qft-event/gac-2025/
LOCATION:GAC 2025\, Washington\, DC Washington Convention Center 801 Allen Y. Lew Place NW
ATTACH;FMTTYPE=image/webp:https://www.quinteft.com/wp-content/uploads/2026/02/GAC-2025.webp
END:VEVENT
BEGIN:VEVENT
DTSTART;TZID=UTC:20241204T000000
DTEND;TZID=UTC:20241204T000000
DTSTAMP:20260425T181839
CREATED:20260209T043122Z
LAST-MODIFIED:20260209T043122Z
UID:13790-1733270400-1733270400@www.quinteft.com
SUMMARY:HFS Winter Summit
DESCRIPTION:
URL:https://www.quinteft.com/qft-event/hfs-winter-summit/
LOCATION:HFS Winter Summit\, Quorum by Convene\, New York
ATTACH;FMTTYPE=image/webp:https://www.quinteft.com/wp-content/uploads/2026/02/HFS-Winter-Summit.webp
END:VEVENT
BEGIN:VEVENT
DTSTART;TZID=UTC:20241202T000000
DTEND;TZID=UTC:20241203T000000
DTSTAMP:20260425T181839
CREATED:20260209T043200Z
LAST-MODIFIED:20260209T043200Z
UID:13791-1733097600-1733184000@www.quinteft.com
SUMMARY:#RISK New York
DESCRIPTION:
URL:https://www.quinteft.com/qft-event/risk-new-york/
LOCATION:#RISK New York\, Fordham Law School\, NYC New York
ATTACH;FMTTYPE=image/webp:https://www.quinteft.com/wp-content/uploads/2026/02/RISK-New-York.webp
END:VEVENT
BEGIN:VEVENT
DTSTART;TZID=UTC:20241020T000000
DTEND;TZID=UTC:20241023T000000
DTSTAMP:20260425T181839
CREATED:20260209T043308Z
LAST-MODIFIED:20260209T043308Z
UID:13792-1729382400-1729641600@www.quinteft.com
SUMMARY:REACH 2024
DESCRIPTION:
URL:https://www.quinteft.com/qft-event/reach-2024/
LOCATION:REACH 2024\, Marriott Marquis San Diego Marina\, San Diego\, CA
ATTACH;FMTTYPE=image/webp:https://www.quinteft.com/wp-content/uploads/2026/02/REACH-2024.webp
END:VEVENT
BEGIN:VEVENT
DTSTART;TZID=UTC:20241007T000000
DTEND;TZID=UTC:20241010T000000
DTSTAMP:20260425T181839
CREATED:20260209T043423Z
LAST-MODIFIED:20260209T043423Z
UID:13813-1728259200-1728518400@www.quinteft.com
SUMMARY:Jack Henry Connect 2024
DESCRIPTION:
URL:https://www.quinteft.com/qft-event/jack-henry-connect-2024/
LOCATION:Jack Henry Connect 2024\, Phoenix Convention Center\, Phoenix\, AZ
ATTACH;FMTTYPE=image/webp:https://www.quinteft.com/wp-content/uploads/2026/02/Jack-Henry-Connect-2024.webp
END:VEVENT
BEGIN:VEVENT
DTSTART;TZID=UTC:20240909T000000
DTEND;TZID=UTC:20240911T000000
DTSTAMP:20260425T181839
CREATED:20260209T043549Z
LAST-MODIFIED:20260209T043549Z
UID:13815-1725840000-1726012800@www.quinteft.com
SUMMARY:FinovateFall 2024
DESCRIPTION:
URL:https://www.quinteft.com/qft-event/finovatefall-2024/
LOCATION:FinovateFall 2024\, The Marriott Marquis Times Square New York
ATTACH;FMTTYPE=image/webp:https://www.quinteft.com/wp-content/uploads/2026/02/FinovateFall-2024.webp
END:VEVENT
BEGIN:VEVENT
DTSTART;TZID=UTC:20240717T000000
DTEND;TZID=UTC:20240718T000000
DTSTAMP:20260425T181839
CREATED:20260209T043712Z
LAST-MODIFIED:20260209T043712Z
UID:13814-1721174400-1721260800@www.quinteft.com
SUMMARY:Reuters Events Momentum: AI Summit & Global Broadcast
DESCRIPTION:
URL:https://www.quinteft.com/qft-event/reuters-events-momentum-ai-summit-global-broadcast/
LOCATION:Reuters Events Momentum: AI Summit & Global Broadcast\, Signia by Hilton San Jose\, 170 S Market St\, San Jose\, CA
ATTACH;FMTTYPE=image/webp:https://www.quinteft.com/wp-content/uploads/2026/02/Reuters-Events-Momentum-AI-Summit-Global-Broadcast.webp
END:VEVENT
BEGIN:VEVENT
DTSTART;TZID=UTC:20240613T000000
DTEND;TZID=UTC:20240616T000000
DTSTAMP:20260425T181839
CREATED:20260209T043842Z
LAST-MODIFIED:20260209T043842Z
UID:13819-1718236800-1718496000@www.quinteft.com
SUMMARY:EXCEL 24
DESCRIPTION:
URL:https://www.quinteft.com/qft-event/excel-24/
LOCATION:EXCEL 24\, The Saratoga Hilton\, Saratoga Springs\, NY
ATTACH;FMTTYPE=image/webp:https://www.quinteft.com/wp-content/uploads/2026/02/EXCEL-24.webp
END:VEVENT
BEGIN:VEVENT
DTSTART;TZID=UTC:20240611T000000
DTEND;TZID=UTC:20240614T000000
DTSTAMP:20260425T181839
CREATED:20260209T043953Z
LAST-MODIFIED:20260209T043953Z
UID:13821-1718064000-1718323200@www.quinteft.com
SUMMARY:American Bankers Association Risk and Compliance Conference
DESCRIPTION:
URL:https://www.quinteft.com/qft-event/american-bankers-association-risk-and-compliance-conference/
LOCATION:American Bankers Association Risk and Compliance Conference\, Seattle Convention Center\, Seattle\, WA
ATTACH;FMTTYPE=image/webp:https://www.quinteft.com/wp-content/uploads/2026/02/American-Bankers-Association-Risk-and-Compliance-Conference.webp
END:VEVENT
BEGIN:VEVENT
DTSTART;TZID=UTC:20240529T000000
DTEND;TZID=UTC:20240531T000000
DTSTAMP:20260425T181839
CREATED:20260209T044052Z
LAST-MODIFIED:20260209T044052Z
UID:13820-1716940800-1717113600@www.quinteft.com
SUMMARY:GenAI Summit San Francisco 2024
DESCRIPTION:
URL:https://www.quinteft.com/qft-event/genai-summit-san-francisco-2024/
LOCATION:GenAI Summit San Francisco 2024\, Palace of Fine Arts\, San Francisco\, CA
ATTACH;FMTTYPE=image/webp:https://www.quinteft.com/wp-content/uploads/2026/02/GenAI-Summit-San-Francisco-2024.webp
END:VEVENT
BEGIN:VEVENT
DTSTART;TZID=UTC:20240425T000000
DTEND;TZID=UTC:20240425T000000
DTSTAMP:20260425T181839
CREATED:20260209T044159Z
LAST-MODIFIED:20260209T044228Z
UID:13825-1714003200-1714003200@www.quinteft.com
SUMMARY:PeachPay Forum
DESCRIPTION:
URL:https://www.quinteft.com/qft-event/peachpay-forum/
LOCATION:PeachPay Forum\, 1000 Peachtree Street NE\, Atlanta\, GA
ATTACH;FMTTYPE=image/webp:https://www.quinteft.com/wp-content/uploads/2026/02/PeachPay-Forum.webp
END:VEVENT
BEGIN:VEVENT
DTSTART;TZID=UTC:20240418T000000
DTEND;TZID=UTC:20240419T000000
DTSTAMP:20260425T181839
CREATED:20260209T044347Z
LAST-MODIFIED:20260209T044347Z
UID:13826-1713398400-1713484800@www.quinteft.com
SUMMARY:IAFCI Cyber Fraud Summit 2024
DESCRIPTION:
URL:https://www.quinteft.com/qft-event/iafci-cyber-fraud-summit-2024/
LOCATION:IAFCI Cyber Fraud Summit 2024\, Selby Auditorium 8350N\, Tamiami Trail Sarasota\, Florida FL
ATTACH;FMTTYPE=image/webp:https://www.quinteft.com/wp-content/uploads/2026/02/IAFCI-Cyber-Fraud-Summit-2024.webp
END:VEVENT
BEGIN:VEVENT
DTSTART;TZID=UTC:20240415T000000
DTEND;TZID=UTC:20240418T000000
DTSTAMP:20260425T181839
CREATED:20260209T044442Z
LAST-MODIFIED:20260209T044442Z
UID:13827-1713139200-1713398400@www.quinteft.com
SUMMARY:NACUSO
DESCRIPTION:
URL:https://www.quinteft.com/qft-event/nacuso/
LOCATION:NACUSO\, Disney’s Beach Club Resort\, Orlando\, FL
ATTACH;FMTTYPE=image/webp:https://www.quinteft.com/wp-content/uploads/2026/02/NACUSO.webp
END:VEVENT
BEGIN:VEVENT
DTSTART;TZID=UTC:20240325T000000
DTEND;TZID=UTC:20240328T000000
DTSTAMP:20260425T181839
CREATED:20260209T044556Z
LAST-MODIFIED:20260209T044556Z
UID:13831-1711324800-1711584000@www.quinteft.com
SUMMARY:2024 CULytics Summit
DESCRIPTION:
URL:https://www.quinteft.com/qft-event/2024-culytics-summit/
LOCATION:2024 CULytics Summit\, Microsoft Commons. Redmond\, WA
ATTACH;FMTTYPE=image/webp:https://www.quinteft.com/wp-content/uploads/2026/02/2024-CULytics-Summit.webp
END:VEVENT
END:VCALENDAR