BEGIN:VCALENDAR
VERSION:2.0
PRODID:-//Quinte Financial Technologies - ECPv6.15.20//NONSGML v1.0//EN
CALSCALE:GREGORIAN
METHOD:PUBLISH
X-ORIGINAL-URL:https://www.quinteft.com
X-WR-CALDESC:Events for Quinte Financial Technologies
REFRESH-INTERVAL;VALUE=DURATION:PT1H
X-Robots-Tag:noindex
X-PUBLISHED-TTL:PT1H
BEGIN:VTIMEZONE
TZID:Asia/Kolkata
BEGIN:STANDARD
TZOFFSETFROM:+0530
TZOFFSETTO:+0530
TZNAME:IST
DTSTART:20250101T000000
END:STANDARD
END:VTIMEZONE
BEGIN:VEVENT
DTSTART;VALUE=DATE:20260505
DTEND;VALUE=DATE:20260508
DTSTAMP:20260425T200234
CREATED:20260413T112401Z
LAST-MODIFIED:20260424T114026Z
UID:17781-1777939200-1778198399@www.quinteft.com
SUMMARY:ABA Risk and Compliance Conference
DESCRIPTION:
URL:https://www.quinteft.com/qft-event/aba-risk-and-compliance-conference-2/
LOCATION:ABA RCC\, Charlotte Convention Center\, Charlotte\, NC\, USA
ATTACH;FMTTYPE=image/webp:https://www.quinteft.com/wp-content/uploads/ABA.webp
END:VEVENT
END:VCALENDAR